BEGIN:VCALENDAR
VERSION:2.0
PRODID:-//South Services Club - ECPv4.9.4//NONSGML v1.0//EN
CALSCALE:GREGORIAN
METHOD:PUBLISH
X-WR-CALNAME:South Services Club
X-ORIGINAL-URL:http://www.sgex.com.au
X-WR-CALDESC:Events for South Services Club
BEGIN:VTIMEZONE
TZID:"Australia/Sydney"
BEGIN:STANDARD
TZOFFSETFROM:+1100
TZOFFSETTO:+1000
TZNAME:AEST
DTSTART:20210403T160000
END:STANDARD
BEGIN:DAYLIGHT
TZOFFSETFROM:+1000
TZOFFSETTO:+1100
TZNAME:AEDT
DTSTART:20211002T160000
END:DAYLIGHT
END:VTIMEZONE
BEGIN:VEVENT
DTSTART;TZID="Australia/Sydney":20210213T170000
DTEND;TZID="Australia/Sydney":20210213T190000
DTSTAMP:20210226T101600
CREATED:20210128T041143Z
LAST-MODIFIED:20210128T041143Z
UID:7697-1613235600-1613242800@www.sgex.com.au
SUMMARY:RAFFLES
DESCRIPTION:Raffles every week on Friday & Saturday nights\, with great Vouchers and Meat trays to be won from local butcher shops as well as vouchers for seafood from Neaco Blue & Fruit vouchers from Farmer Lous \nTickets go on Sale from 5pm and drawn at 6.30pm. \n
URL:http://www.sgex.com.au/event/raffles-4/2021-02-13/
CATEGORIES:Weekly Events
ATTACH;FMTTYPE=image/jpeg:http://www.sgex.com.au/wp-content/uploads/2019/09/meat-raffles-1.jpg
END:VEVENT
END:VCALENDAR