BEGIN:VCALENDAR
VERSION:2.0
PRODID:-//South Services Club - ECPv4.9.4//NONSGML v1.0//EN
CALSCALE:GREGORIAN
METHOD:PUBLISH
X-WR-CALNAME:South Services Club
X-ORIGINAL-URL:http://www.sgex.com.au
X-WR-CALDESC:Events for South Services Club
BEGIN:VTIMEZONE
TZID:"Australia/Sydney"
BEGIN:STANDARD
TZOFFSETFROM:+1100
TZOFFSETTO:+1000
TZNAME:AEST
DTSTART:20210403T160000
END:STANDARD
BEGIN:DAYLIGHT
TZOFFSETFROM:+1000
TZOFFSETTO:+1100
TZNAME:AEDT
DTSTART:20211002T160000
END:DAYLIGHT
END:VTIMEZONE
BEGIN:VEVENT
DTSTART;TZID="Australia/Sydney":20210226T193000
DTEND;TZID="Australia/Sydney":20210226T220000
DTSTAMP:20210226T102127
CREATED:20210222T043944Z
LAST-MODIFIED:20210222T043944Z
UID:7741-1614367800-1614376800@www.sgex.com.au
SUMMARY:Dave & Di
DESCRIPTION:This Friday night we welcome back Dave & Di the first duo since Covid- 19 hit. \nCome down and enjoy and great night of easy listening music while being Covid safe. \n
URL:http://www.sgex.com.au/event/dave-di/
CATEGORIES:Live Shows
ATTACH;FMTTYPE=image/jpeg:http://www.sgex.com.au/wp-content/uploads/2019/06/davedi.jpg
END:VEVENT
END:VCALENDAR